BEGIN:VCALENDAR
VERSION:2.0
PRODID:icalendar-ruby
CALSCALE:GREGORIAN
METHOD:PUBLISH
BEGIN:VEVENT
DTSTAMP:20260425T034934Z
UID:a7110e48-2fa0-487c-9991-ca3da0b71a04
DTSTART:20220826T083000
DTEND:20220828T183000
DESCRIPTION:<p>Messe Frankfurt - Festival of Motoring 2022</p>
LOCATION:Cnr Allandale Road & R55 Kyalami Estate Midrand
SUMMARY:Festival of Motoring 2022
URL;VALUE=URI:https://festivalofmotoring.howler.co.za/fom2022
END:VEVENT
END:VCALENDAR
