BEGIN:VCALENDAR
VERSION:2.0
PRODID:icalendar-ruby
CALSCALE:GREGORIAN
METHOD:PUBLISH
BEGIN:VEVENT
DTSTAMP:20260420T091031Z
UID:f50b0645-1385-4be6-bfb0-8296239a76ec
DTSTART:20240830T083000
DTEND:20240901T183000
DESCRIPTION:<p>The Festival of Motoring\, renowned as Africa’s premier ce
 lebration of automotive excellence\, is pleased to announce the eagerly aw
 aited dates for its 7th edition. Taking place from August 30th to Septembe
 r 1st\, 2024\, at the esteemed Kyalami Grand Prix Circuit\, this event pro
 mises an exciting showcase of the automotive world.</p><p>At its essence\,
  the Festival of Motoring encapsulates a vibrant convergence of automotive
  enthusiasts hailing from 210 cities across South Africa. This dynamic gat
 hering features a remarkable offering of 10\,000 test drives executed over
  three days\, skilfully conducted by professional drivers. Notably\, the f
 estival reflects a substantial 18% purchase intent among its attendees\, u
 nderscoring the compelling appeal it holds for potential buyers.</p>
LOCATION:Allandale Rd\, Kyalami East\, Midrand\, 1684
SUMMARY:Festival of Motoring 2024
URL;VALUE=URI:https://festivalofmotoring.howler.co.za/fom24
END:VEVENT
END:VCALENDAR
